BEGIN:VCALENDAR
VERSION:2.0
PRODID:-//Masajes y Talleres para Hombres - ECPv6.15.20//NONSGML v1.0//EN
CALSCALE:GREGORIAN
METHOD:PUBLISH
X-ORIGINAL-URL:https://sentidosolvidados.com
X-WR-CALDESC:Eventos para Masajes y Talleres para Hombres
REFRESH-INTERVAL;VALUE=DURATION:PT1H
X-Robots-Tag:noindex
X-PUBLISHED-TTL:PT1H
BEGIN:VTIMEZONE
TZID:Europe/Madrid
BEGIN:DAYLIGHT
TZOFFSETFROM:+0100
TZOFFSETTO:+0200
TZNAME:CEST
DTSTART:20190331T010000
END:DAYLIGHT
BEGIN:STANDARD
TZOFFSETFROM:+0200
TZOFFSETTO:+0100
TZNAME:CET
DTSTART:20191027T010000
END:STANDARD
BEGIN:DAYLIGHT
TZOFFSETFROM:+0100
TZOFFSETTO:+0200
TZNAME:CEST
DTSTART:20200329T010000
END:DAYLIGHT
BEGIN:STANDARD
TZOFFSETFROM:+0200
TZOFFSETTO:+0100
TZNAME:CET
DTSTART:20201025T010000
END:STANDARD
BEGIN:DAYLIGHT
TZOFFSETFROM:+0100
TZOFFSETTO:+0200
TZNAME:CEST
DTSTART:20210328T010000
END:DAYLIGHT
BEGIN:STANDARD
TZOFFSETFROM:+0200
TZOFFSETTO:+0100
TZNAME:CET
DTSTART:20211031T010000
END:STANDARD
BEGIN:DAYLIGHT
TZOFFSETFROM:+0100
TZOFFSETTO:+0200
TZNAME:CEST
DTSTART:20220327T010000
END:DAYLIGHT
BEGIN:STANDARD
TZOFFSETFROM:+0200
TZOFFSETTO:+0100
TZNAME:CET
DTSTART:20221030T010000
END:STANDARD
BEGIN:DAYLIGHT
TZOFFSETFROM:+0100
TZOFFSETTO:+0200
TZNAME:CEST
DTSTART:20230326T010000
END:DAYLIGHT
BEGIN:STANDARD
TZOFFSETFROM:+0200
TZOFFSETTO:+0100
TZNAME:CET
DTSTART:20231029T010000
END:STANDARD
BEGIN:DAYLIGHT
TZOFFSETFROM:+0100
TZOFFSETTO:+0200
TZNAME:CEST
DTSTART:20240331T010000
END:DAYLIGHT
BEGIN:STANDARD
TZOFFSETFROM:+0200
TZOFFSETTO:+0100
TZNAME:CET
DTSTART:20241027T010000
END:STANDARD
BEGIN:DAYLIGHT
TZOFFSETFROM:+0100
TZOFFSETTO:+0200
TZNAME:CEST
DTSTART:20250330T010000
END:DAYLIGHT
BEGIN:STANDARD
TZOFFSETFROM:+0200
TZOFFSETTO:+0100
TZNAME:CET
DTSTART:20251026T010000
END:STANDARD
BEGIN:DAYLIGHT
TZOFFSETFROM:+0100
TZOFFSETTO:+0200
TZNAME:CEST
DTSTART:20260329T010000
END:DAYLIGHT
BEGIN:STANDARD
TZOFFSETFROM:+0200
TZOFFSETTO:+0100
TZNAME:CET
DTSTART:20261025T010000
END:STANDARD
BEGIN:DAYLIGHT
TZOFFSETFROM:+0100
TZOFFSETTO:+0200
TZNAME:CEST
DTSTART:20270328T010000
END:DAYLIGHT
BEGIN:STANDARD
TZOFFSETFROM:+0200
TZOFFSETTO:+0100
TZNAME:CET
DTSTART:20271031T010000
END:STANDARD
END:VTIMEZONE
BEGIN:VTIMEZONE
TZID:Atlantic/Canary
BEGIN:DAYLIGHT
TZOFFSETFROM:+0000
TZOFFSETTO:+0100
TZNAME:WEST
DTSTART:20230326T010000
END:DAYLIGHT
BEGIN:STANDARD
TZOFFSETFROM:+0100
TZOFFSETTO:+0000
TZNAME:WET
DTSTART:20231029T010000
END:STANDARD
BEGIN:DAYLIGHT
TZOFFSETFROM:+0000
TZOFFSETTO:+0100
TZNAME:WEST
DTSTART:20240331T010000
END:DAYLIGHT
BEGIN:STANDARD
TZOFFSETFROM:+0100
TZOFFSETTO:+0000
TZNAME:WET
DTSTART:20241027T010000
END:STANDARD
BEGIN:DAYLIGHT
TZOFFSETFROM:+0000
TZOFFSETTO:+0100
TZNAME:WEST
DTSTART:20250330T010000
END:DAYLIGHT
BEGIN:STANDARD
TZOFFSETFROM:+0100
TZOFFSETTO:+0000
TZNAME:WET
DTSTART:20251026T010000
END:STANDARD
END:VTIMEZONE
BEGIN:VEVENT
DTSTART;TZID=Europe/Madrid:20260207T180000
DTEND;TZID=Europe/Madrid:20260207T200000
DTSTAMP:20260420T154549
CREATED:20260131T091319Z
LAST-MODIFIED:20260131T091319Z
UID:3415-1770487200-1770494400@sentidosolvidados.com
SUMMARY:TALLER CON-TACTO
DESCRIPTION:Taller exclusivamente para hombres que quieran tocar y se tocados… \nTaller CON-TACTO
URL:https://sentidosolvidados.com/event/taller-con-tacto/
LOCATION:Gabinete de Masajes Chamberi\, santa engracia\, madrid\, Madrid\, 28010\, Spain
ATTACH;FMTTYPE=image/jpeg:https://sentidosolvidados.com/wp-content/uploads/taller-con-tacto.jpg
ORGANIZER;CN="Ivan sentidos masculinos":MAILTO:ivanterapeuta@gmail.com
END:VEVENT
BEGIN:VEVENT
DTSTART;TZID=Atlantic/Canary:20240316T180000
DTEND;TZID=Atlantic/Canary:20240316T200000
DTSTAMP:20260420T154549
CREATED:20240303T105502Z
LAST-MODIFIED:20240303T105502Z
UID:3095-1710612000-1710619200@sentidosolvidados.com
SUMMARY:Taller Tocar Sentir Disfrutar Tenerife
DESCRIPTION:Taller Tocar Sentir Disfrutar \nSanta Cruz de Tenerife sábado 16 de marzo 18:00 horas
URL:https://sentidosolvidados.com/event/taller-tocar-sentir-disfrutar-tenerife/
LOCATION:Madrid
ORGANIZER;CN="Ivan sentidos masculinos":MAILTO:ivanterapeuta@gmail.com
END:VEVENT
BEGIN:VEVENT
DTSTART;VALUE=DATE:20200330
DTEND;VALUE=DATE:20200331
DTSTAMP:20260420T154549
CREATED:20200326T165112Z
LAST-MODIFIED:20200326T165112Z
UID:2227-1585526400-1585612799@sentidosolvidados.com
SUMMARY:Lanzamiento de Pagina
DESCRIPTION:Lnazamiento de la pagina en redes sociales
URL:https://sentidosolvidados.com/event/lanzamiento-de-pagina/
LOCATION:Madrid
END:VEVENT
END:VCALENDAR